BEGIN:VCALENDAR
VERSION:2.0
PRODID:-//Tukios.com/
BEGIN:VEVENT
UID:fcd34e84-615e-47c9-8151-018f0fa49171@www.mumfordfuneralhome.com
DTSTAMP:20260423T182031Z
DTSTART:20260428T130000Z
DTEND:20260428T150000Z
SUMMARY:Visitation
DESCRIPTION:
URL:https://www.mumfordfuneralhome.com/obituaries/donald-austill
LOCATION:Richfield Church of the Nazarene 7524 East Mt. Morris Road  
	Otisville MI 48463
GEO:43.1199269;-83.559528
END:VEVENT
END:VCALENDAR