BEGIN:VCALENDAR
VERSION:2.0
PRODID:-//Tukios.com/
BEGIN:VEVENT
UID:1f2c02a7-f113-4b26-b5a9-6f37b8681f95@www.mumfordfuneralhome.com
DTSTAMP:20260423T181442Z
DTSTART:20260428T150000Z
DTEND:20260428T160000Z
SUMMARY:Funeral Service
DESCRIPTION:
URL:https://www.mumfordfuneralhome.com/obituaries/donald-austill
LOCATION:Richfield Church of the Nazarene 7524 East Mt. Morris Road  
	Otisville MI 48463
GEO:43.1199269;-83.559528
END:VEVENT
END:VCALENDAR